Package: GrafGen Version: 1.2.0 Command: /home/biocbuild/bbs-3.20-bioc/R/bin/R CMD INSTALL GrafGen StartedAt: 2025-01-27 16:52:30 -0500 (Mon, 27 Jan 2025) EndedAt: 2025-01-27 16:52:58 -0500 (Mon, 27 Jan 2025) EllapsedTime: 27.7 seconds RetCode: 0 Status: OK