Package: GrafGen Version: 1.2.0 Command: /Library/Frameworks/R.framework/Resources/bin/R CMD INSTALL GrafGen StartedAt: 2025-03-31 16:36:00 -0400 (Mon, 31 Mar 2025) EndedAt: 2025-03-31 16:36:53 -0400 (Mon, 31 Mar 2025) EllapsedTime: 53.2 seconds RetCode: 0 Status: OK