Package: GrafGen Version: 1.2.0 Command: /Library/Frameworks/R.framework/Resources/bin/R CMD build --keep-empty-dirs --no-resave-data GrafGen StartedAt: 2025-04-01 00:41:23 -0400 (Tue, 01 Apr 2025) EndedAt: 2025-04-01 00:42:03 -0400 (Tue, 01 Apr 2025) EllapsedTime: 40.1 seconds RetCode: 0 Status: OK PackageFile: GrafGen_1.2.0.tar.gz PackageFileSize: 3.104 MiB