Package: GmicR Version: 1.20.0 Command: /home/biocbuild/bbs-3.20-bioc/R/bin/R CMD check --install=check:GmicR.install-out.txt --library=/home/biocbuild/bbs-3.20-bioc/R/site-library --timings GmicR_1.20.0.tar.gz StartedAt: 2025-02-10 22:43:38 -0500 (Mon, 10 Feb 2025) EndedAt: 2025-02-10 23:06:29 -0500 (Mon, 10 Feb 2025) EllapsedTime: 1370.5 seconds RetCode: 0 Status: WARNINGS CheckDir: GmicR.Rcheck Warnings: 1