Package: GmicR Version: 1.20.0 Command: /Library/Frameworks/R.framework/Resources/bin/R CMD build --keep-empty-dirs --no-resave-data GmicR StartedAt: 2025-02-03 19:18:02 -0500 (Mon, 03 Feb 2025) EndedAt: 2025-02-03 19:39:38 -0500 (Mon, 03 Feb 2025) EllapsedTime: 1296.1 seconds RetCode: 0 Status: OK PackageFile: GmicR_1.20.0.tar.gz PackageFileSize: 3.493 MiB