Package: GlobalAncova Version: 4.24.0 Command: rm -rf GlobalAncova.buildbin-libdir && mkdir GlobalAncova.buildbin-libdir && /Users/biocbuild/BBS/utils/build-universal.sh GlobalAncova_4.24.0.tar.gz /Library/Frameworks/R.framework/Resources/bin/R GlobalAncova.buildbin-libdir StartedAt: 2025-01-28 13:18:17 -0500 (Tue, 28 Jan 2025) EndedAt: 2025-01-28 13:19:46 -0500 (Tue, 28 Jan 2025) EllapsedTime: 90.0 seconds RetCode: 0 Status: OK PackageFile: GlobalAncova_4.24.0.tgz PackageFileSize: 1.618 MiB