Package: GlobalAncova Version: 4.24.0 Command: /Library/Frameworks/R.framework/Resources/bin/R CMD build --keep-empty-dirs --no-resave-data GlobalAncova StartedAt: 2025-01-28 00:33:26 -0500 (Tue, 28 Jan 2025) EndedAt: 2025-01-28 00:43:21 -0500 (Tue, 28 Jan 2025) EllapsedTime: 595.9 seconds RetCode: 0 Status: OK PackageFile: GlobalAncova_4.24.0.tar.gz PackageFileSize: 1.208 MiB