Package: GloScope Version: 1.4.0 Command: /home/biocbuild/R/R/bin/R CMD check --install=check:GloScope.install-out.txt --library=/home/biocbuild/R/R/site-library --no-vignettes --timings GloScope_1.4.0.tar.gz StartedAt: 2025-01-28 07:39:38 -0000 (Tue, 28 Jan 2025) EndedAt: 2025-01-28 07:53:01 -0000 (Tue, 28 Jan 2025) EllapsedTime: 802.8 seconds RetCode: 0 Status: OK CheckDir: GloScope.Rcheck Warnings: 0