Package: GloScope Version: 1.4.0 Command: F:\biocbuild\bbs-3.20-bioc\R\bin\R.exe CMD check --no-multiarch --install=check:GloScope.install-out.txt --library=F:\biocbuild\bbs-3.20-bioc\R\library --no-vignettes --timings GloScope_1.4.0.tar.gz StartedAt: 2025-04-01 02:07:16 -0400 (Tue, 01 Apr 2025) EndedAt: 2025-04-01 02:20:43 -0400 (Tue, 01 Apr 2025) EllapsedTime: 806.9 seconds RetCode: 0 Status: OK CheckDir: GloScope.Rcheck Warnings: 0