Package: GloScope Version: 1.4.0 Command: rm -rf GloScope.buildbin-libdir && mkdir GloScope.buildbin-libdir && F:\biocbuild\bbs-3.20-bioc\R\bin\R.exe CMD INSTALL --build --library=GloScope.buildbin-libdir GloScope_1.4.0.tar.gz StartedAt: 2025-04-01 08:19:10 -0400 (Tue, 01 Apr 2025) EndedAt: 2025-04-01 08:19:45 -0400 (Tue, 01 Apr 2025) EllapsedTime: 34.9 seconds RetCode: 0 Status: OK PackageFile: GloScope_1.4.0.zip PackageFileSize: 2.566 MiB