Package: GloScope Version: 1.4.0 Command: /Library/Frameworks/R.framework/Resources/bin/R CMD INSTALL GloScope StartedAt: 2025-01-27 15:31:29 -0500 (Mon, 27 Jan 2025) EndedAt: 2025-01-27 15:32:26 -0500 (Mon, 27 Jan 2025) EllapsedTime: 56.7 seconds RetCode: 0 Status: OK