Package: GloScope Version: 1.4.0 Command: /Library/Frameworks/R.framework/Resources/bin/R CMD build --keep-empty-dirs --no-resave-data GloScope StartedAt: 2025-04-01 00:24:05 -0400 (Tue, 01 Apr 2025) EndedAt: 2025-04-01 00:25:10 -0400 (Tue, 01 Apr 2025) EllapsedTime: 65.1 seconds RetCode: 0 Status: OK PackageFile: GloScope_1.4.0.tar.gz PackageFileSize: 2.634 MiB