Package: GloScope Version: 1.4.0 Maintainer: William Torous MaintainerEmail: wtorous at berkeley.edu git_url: https://git.bioconductor.org/packages/GloScope git_branch: RELEASE_3_20 git_last_commit: 628d71c git_last_commit_date: 2024-10-29 11:23:45 -0500 (Tue, 29 Oct 2024)