Package: Glimma Version: 2.16.0 Command: /home/biocbuild/R/R/bin/R CMD INSTALL Glimma StartedAt: 2025-02-10 20:39:39 -0000 (Mon, 10 Feb 2025) EndedAt: 2025-02-10 20:40:12 -0000 (Mon, 10 Feb 2025) EllapsedTime: 33.8 seconds RetCode: 0 Status: OK