Package: Glimma Version: 2.16.0 Command: /home/biocbuild/R/R/bin/R CMD check --install=check:Glimma.install-out.txt --library=/home/biocbuild/R/R/site-library --no-vignettes --timings Glimma_2.16.0.tar.gz StartedAt: 2025-02-11 06:44:09 -0000 (Tue, 11 Feb 2025) EndedAt: 2025-02-11 06:50:19 -0000 (Tue, 11 Feb 2025) EllapsedTime: 370.2 seconds RetCode: 0 Status: OK CheckDir: Glimma.Rcheck Warnings: 0