Package: Glimma Version: 2.16.0 Command: chmod a+r Glimma -R && F:\biocbuild\bbs-3.20-bioc\R\bin\R.exe CMD build --keep-empty-dirs --no-resave-data Glimma StartedAt: 2025-01-27 19:16:29 -0500 (Mon, 27 Jan 2025) EndedAt: 2025-01-27 19:28:37 -0500 (Mon, 27 Jan 2025) EllapsedTime: 728.5 seconds RetCode: 0 Status: OK PackageFile: Glimma_2.16.0.tar.gz PackageFileSize: 11.1 MiB