Package: Glimma Version: 2.16.0 Command: /Library/Frameworks/R.framework/Resources/bin/R CMD build --keep-empty-dirs --no-resave-data Glimma StartedAt: 2025-02-10 19:14:01 -0500 (Mon, 10 Feb 2025) EndedAt: 2025-02-10 19:34:05 -0500 (Mon, 10 Feb 2025) EllapsedTime: 1204.7 seconds RetCode: 0 Status: OK PackageFile: Glimma_2.16.0.tar.gz PackageFileSize: 11.1 MiB