Package: Glimma Version: 2.16.0 Command: rm -rf Glimma.buildbin-libdir && mkdir Glimma.buildbin-libdir && /Users/biocbuild/BBS/utils/build-universal.sh Glimma_2.16.0.tar.gz /Library/Frameworks/R.framework/Resources/bin/R Glimma.buildbin-libdir StartedAt: 2025-02-11 13:22:53 -0500 (Tue, 11 Feb 2025) EndedAt: 2025-02-11 13:24:28 -0500 (Tue, 11 Feb 2025) EllapsedTime: 95.3 seconds RetCode: 0 Status: OK PackageFile: Glimma_2.16.0.tgz PackageFileSize: 8.725 MiB