Package: Glimma Version: 2.16.0 Command: /Library/Frameworks/R.framework/Resources/bin/R CMD build --keep-empty-dirs --no-resave-data Glimma StartedAt: 2024-11-19 17:01:47 -0500 (Tue, 19 Nov 2024) EndedAt: 2024-11-19 17:11:27 -0500 (Tue, 19 Nov 2024) EllapsedTime: 580.0 seconds RetCode: 0 Status: OK PackageFile: Glimma_2.16.0.tar.gz PackageFileSize: 11.1 MiB