Package: Glimma Version: 2.16.0 Command: rm -rf Glimma.buildbin-libdir && mkdir Glimma.buildbin-libdir && /Users/biocbuild/BBS/utils/build-universal.sh Glimma_2.16.0.tar.gz /Library/Frameworks/R.framework/Resources/bin/R Glimma.buildbin-libdir StartedAt: 2024-11-20 04:29:39 -0500 (Wed, 20 Nov 2024) EndedAt: 2024-11-20 04:30:26 -0500 (Wed, 20 Nov 2024) EllapsedTime: 46.9 seconds RetCode: 0 Status: OK PackageFile: Glimma_2.16.0.tgz PackageFileSize: 8.725 MiB