Package: GladiaTOX Version: 1.22.0 Command: rm -rf GladiaTOX.buildbin-libdir && mkdir GladiaTOX.buildbin-libdir && /Users/biocbuild/BBS/utils/build-universal.sh GladiaTOX_1.22.0.tar.gz /Library/Frameworks/R.framework/Resources/bin/R GladiaTOX.buildbin-libdir StartedAt: 2025-04-02 14:34:32 -0400 (Wed, 02 Apr 2025) EndedAt: 2025-04-02 14:34:47 -0400 (Wed, 02 Apr 2025) EllapsedTime: 14.7 seconds RetCode: 0 Status: OK PackageFile: GladiaTOX_1.22.0.tgz PackageFileSize: 4.196 MiB