Package: GeoTcgaData Version: 2.6.0 Command: /Library/Frameworks/R.framework/Resources/bin/R CMD INSTALL GeoTcgaData StartedAt: 2025-01-30 17:22:34 -0500 (Thu, 30 Jan 2025) EndedAt: 2025-01-30 17:23:29 -0500 (Thu, 30 Jan 2025) EllapsedTime: 55.0 seconds RetCode: 0 Status: OK