Package: GeoTcgaData Version: 2.6.0 Command: /Library/Frameworks/R.framework/Resources/bin/R CMD build --keep-empty-dirs --no-resave-data GeoTcgaData StartedAt: 2025-02-04 00:19:52 -0500 (Tue, 04 Feb 2025) EndedAt: 2025-02-04 00:21:22 -0500 (Tue, 04 Feb 2025) EllapsedTime: 89.7 seconds RetCode: 0 Status: OK PackageFile: GeoTcgaData_2.6.0.tar.gz PackageFileSize: 3.318 MiB