Package: GeoDiff Version: 1.12.0 Command: /home/biocbuild/R/R/bin/R CMD check --install=check:GeoDiff.install-out.txt --library=/home/biocbuild/R/R/site-library --no-vignettes --timings GeoDiff_1.12.0.tar.gz StartedAt: 2025-02-04 07:23:10 -0000 (Tue, 04 Feb 2025) EndedAt: 2025-02-04 07:28:40 -0000 (Tue, 04 Feb 2025) EllapsedTime: 330.2 seconds RetCode: 0 Status: OK CheckDir: GeoDiff.Rcheck Warnings: 0