Package: GeoDiff Version: 1.12.0 Command: rm -rf GeoDiff.buildbin-libdir && mkdir GeoDiff.buildbin-libdir && F:\biocbuild\bbs-3.20-bioc\R\bin\R.exe CMD INSTALL --build --library=GeoDiff.buildbin-libdir GeoDiff_1.12.0.tar.gz StartedAt: 2025-01-28 08:14:17 -0500 (Tue, 28 Jan 2025) EndedAt: 2025-01-28 08:17:09 -0500 (Tue, 28 Jan 2025) EllapsedTime: 171.6 seconds RetCode: 0 Status: OK PackageFile: GeoDiff_1.12.0.zip PackageFileSize: 4.95 MiB