Package: GeoDiff Version: 1.12.0 Command: /Library/Frameworks/R.framework/Resources/bin/R CMD build --keep-empty-dirs --no-resave-data GeoDiff StartedAt: 2024-11-08 17:26:52 -0500 (Fri, 08 Nov 2024) EndedAt: 2024-11-08 17:28:13 -0500 (Fri, 08 Nov 2024) EllapsedTime: 80.9 seconds RetCode: 0 Status: OK PackageFile: GeoDiff_1.12.0.tar.gz PackageFileSize: 4.581 MiB