Package: GeoDiff Version: 1.12.0 Command: rm -rf GeoDiff.buildbin-libdir && mkdir GeoDiff.buildbin-libdir && /Users/biocbuild/BBS/utils/build-universal.sh GeoDiff_1.12.0.tar.gz /Library/Frameworks/R.framework/Resources/bin/R GeoDiff.buildbin-libdir StartedAt: 2024-11-09 16:51:24 -0500 (Sat, 09 Nov 2024) EndedAt: 2024-11-09 16:51:49 -0500 (Sat, 09 Nov 2024) EllapsedTime: 25.4 seconds RetCode: 0 Status: OK PackageFile: GeoDiff_1.12.0.tgz PackageFileSize: 4.798 MiB