Package: GeoDiff Version: 1.12.0 Command: /Library/Frameworks/R.framework/Resources/bin/R CMD build --keep-empty-dirs --no-resave-data GeoDiff StartedAt: 2025-01-28 00:18:42 -0500 (Tue, 28 Jan 2025) EndedAt: 2025-01-28 00:22:52 -0500 (Tue, 28 Jan 2025) EllapsedTime: 250.8 seconds RetCode: 0 Status: OK PackageFile: GeoDiff_1.12.0.tar.gz PackageFileSize: 4.58 MiB