Package: GenomicSuperSignature Version: 1.14.0 Command: /home/biocbuild/R/R/bin/R CMD INSTALL GenomicSuperSignature StartedAt: 2025-03-31 21:07:59 -0000 (Mon, 31 Mar 2025) EndedAt: 2025-03-31 21:08:35 -0000 (Mon, 31 Mar 2025) EllapsedTime: 36.5 seconds RetCode: 0 Status: OK