Package: GenomicScores Version: 2.18.1 Command: chmod a+r GenomicScores -R && F:\biocbuild\bbs-3.20-bioc\R\bin\R.exe CMD build --keep-empty-dirs --no-resave-data GenomicScores StartedAt: 2025-03-31 19:12:33 -0400 (Mon, 31 Mar 2025) EndedAt: 2025-03-31 19:16:35 -0400 (Mon, 31 Mar 2025) EllapsedTime: 241.7 seconds RetCode: 0 Status: OK PackageFile: GenomicScores_2.18.1.tar.gz PackageFileSize: 1.284 MiB