Package: GenomicScores Version: 2.18.0 Command: rm -rf GenomicScores.buildbin-libdir && mkdir GenomicScores.buildbin-libdir && F:\biocbuild\bbs-3.20-bioc\R\bin\R.exe CMD INSTALL --build --library=GenomicScores.buildbin-libdir GenomicScores_2.18.0.tar.gz StartedAt: 2025-01-28 08:14:05 -0500 (Tue, 28 Jan 2025) EndedAt: 2025-01-28 08:15:11 -0500 (Tue, 28 Jan 2025) EllapsedTime: 65.4 seconds RetCode: 0 Status: OK PackageFile: GenomicScores_2.18.0.zip PackageFileSize: 1.81 MiB