Package: GenomicScores Version: 2.18.1 Command: /home/biocbuild/bbs-3.20-bioc/R/bin/R CMD INSTALL GenomicScores StartedAt: 2025-03-31 15:22:35 -0400 (Mon, 31 Mar 2025) EndedAt: 2025-03-31 15:23:03 -0400 (Mon, 31 Mar 2025) EllapsedTime: 28.0 seconds RetCode: 0 Status: OK