Package: GenomicScores Version: 2.18.1 Command: /home/biocbuild/bbs-3.20-bioc/R/bin/R CMD check --install=check:GenomicScores.install-out.txt --library=/home/biocbuild/bbs-3.20-bioc/R/site-library --timings GenomicScores_2.18.1.tar.gz StartedAt: 2025-03-31 22:28:10 -0400 (Mon, 31 Mar 2025) EndedAt: 2025-03-31 22:33:18 -0400 (Mon, 31 Mar 2025) EllapsedTime: 307.3 seconds RetCode: 0 Status: OK CheckDir: GenomicScores.Rcheck Warnings: 0