Package: GenomicScores Version: 2.18.1 Command: /Library/Frameworks/R.framework/Resources/bin/R CMD INSTALL GenomicScores StartedAt: 2025-03-31 15:44:38 -0400 (Mon, 31 Mar 2025) EndedAt: 2025-03-31 15:45:13 -0400 (Mon, 31 Mar 2025) EllapsedTime: 34.5 seconds RetCode: 0 Status: OK