Package: GenomicRanges Version: 1.58.0 Command: /home/biocbuild/R/R/bin/R CMD check --install=check:GenomicRanges.install-out.txt --library=/home/biocbuild/R/R/site-library --no-vignettes --timings GenomicRanges_1.58.0.tar.gz StartedAt: 2025-01-28 07:28:18 -0000 (Tue, 28 Jan 2025) EndedAt: 2025-01-28 07:33:01 -0000 (Tue, 28 Jan 2025) EllapsedTime: 283.1 seconds RetCode: 0 Status: OK CheckDir: GenomicRanges.Rcheck Warnings: 0