Package: GenomicRanges Version: 1.58.0 Command: chmod a+r GenomicRanges -R && F:\biocbuild\bbs-3.20-bioc\R\bin\R.exe CMD build --keep-empty-dirs --no-resave-data GenomicRanges StartedAt: 2025-03-31 19:12:03 -0400 (Mon, 31 Mar 2025) EndedAt: 2025-03-31 19:16:59 -0400 (Mon, 31 Mar 2025) EllapsedTime: 296.0 seconds RetCode: 0 Status: OK PackageFile: GenomicRanges_1.58.0.tar.gz PackageFileSize: 1.08 MiB