Package: GenomicRanges Version: 1.57.0 Command: rm -rf GenomicRanges.buildbin-libdir && mkdir GenomicRanges.buildbin-libdir && F:\biocbuild\bbs-3.20-bioc\R\bin\R.exe CMD INSTALL --build --library=GenomicRanges.buildbin-libdir GenomicRanges_1.57.0.tar.gz StartedAt: 2024-05-30 04:05:40 -0400 (Thu, 30 May 2024) EndedAt: 2024-05-30 04:06:27 -0400 (Thu, 30 May 2024) EllapsedTime: 46.5 seconds RetCode: 0 Status: OK PackageFile: GenomicRanges_1.57.0.zip PackageFileSize: 2.07 MiB