Package: GenomicRanges Version: 1.58.0 Command: rm -rf GenomicRanges.buildbin-libdir && mkdir GenomicRanges.buildbin-libdir && /Users/biocbuild/BBS/utils/build-universal.sh GenomicRanges_1.58.0.tar.gz /Library/Frameworks/R.framework/Resources/bin/R GenomicRanges.buildbin-libdir StartedAt: 2025-01-28 13:14:28 -0500 (Tue, 28 Jan 2025) EndedAt: 2025-01-28 13:16:07 -0500 (Tue, 28 Jan 2025) EllapsedTime: 98.2 seconds RetCode: 0 Status: OK PackageFile: GenomicRanges_1.58.0.tgz PackageFileSize: 2.277 MiB