Package: GenomicPlot Version: 1.4.0 Command: /home/biocbuild/R/R/bin/R CMD INSTALL GenomicPlot StartedAt: 2025-02-13 21:09:18 -0000 (Thu, 13 Feb 2025) EndedAt: 2025-02-13 21:10:21 -0000 (Thu, 13 Feb 2025) EllapsedTime: 63.7 seconds RetCode: 0 Status: OK