Package: GenomicPlot Version: 1.4.0 Command: /home/biocbuild/R/R/bin/R CMD check --install=check:GenomicPlot.install-out.txt --library=/home/biocbuild/R/R/site-library --no-vignettes --timings GenomicPlot_1.4.0.tar.gz StartedAt: 2025-02-14 07:08:07 -0000 (Fri, 14 Feb 2025) EndedAt: 2025-02-14 07:20:35 -0000 (Fri, 14 Feb 2025) EllapsedTime: 747.5 seconds RetCode: 0 Status: OK CheckDir: GenomicPlot.Rcheck Warnings: 0