Package: GenomicPlot Version: 1.4.0 Command: rm -rf GenomicPlot.buildbin-libdir && mkdir GenomicPlot.buildbin-libdir && F:\biocbuild\bbs-3.20-bioc\R\bin\R.exe CMD INSTALL --build --library=GenomicPlot.buildbin-libdir GenomicPlot_1.4.0.tar.gz StartedAt: 2025-02-18 08:12:18 -0500 (Tue, 18 Feb 2025) EndedAt: 2025-02-18 08:13:33 -0500 (Tue, 18 Feb 2025) EllapsedTime: 74.9 seconds RetCode: 0 Status: OK PackageFile: GenomicPlot_1.4.0.zip PackageFileSize: 1.911 MiB