Package: GenomicPlot Version: 1.4.0 Command: /home/biocbuild/bbs-3.20-bioc/R/bin/R CMD INSTALL GenomicPlot StartedAt: 2025-02-13 15:59:09 -0500 (Thu, 13 Feb 2025) EndedAt: 2025-02-13 16:00:01 -0500 (Thu, 13 Feb 2025) EllapsedTime: 52.0 seconds RetCode: 0 Status: OK