Package: GenomicPlot Version: 1.4.0 Command: /home/biocbuild/bbs-3.20-bioc/R/bin/R CMD check --install=check:GenomicPlot.install-out.txt --library=/home/biocbuild/bbs-3.20-bioc/R/site-library --timings GenomicPlot_1.4.0.tar.gz StartedAt: 2025-02-13 22:34:35 -0500 (Thu, 13 Feb 2025) EndedAt: 2025-02-13 22:45:51 -0500 (Thu, 13 Feb 2025) EllapsedTime: 676.7 seconds RetCode: 0 Status: OK CheckDir: GenomicPlot.Rcheck Warnings: 0