Package: GenomicPlot Version: 1.4.0 Command: /Library/Frameworks/R.framework/Resources/bin/R CMD INSTALL GenomicPlot StartedAt: 2025-02-13 16:38:40 -0500 (Thu, 13 Feb 2025) EndedAt: 2025-02-13 16:40:28 -0500 (Thu, 13 Feb 2025) EllapsedTime: 107.9 seconds RetCode: 0 Status: OK