Package: GenomicPlot Version: 1.4.0 Command: /Library/Frameworks/R.framework/Resources/bin/R CMD build --keep-empty-dirs --no-resave-data GenomicPlot StartedAt: 2025-02-18 00:18:21 -0500 (Tue, 18 Feb 2025) EndedAt: 2025-02-18 00:21:01 -0500 (Tue, 18 Feb 2025) EllapsedTime: 159.3 seconds RetCode: 0 Status: OK PackageFile: GenomicPlot_1.4.0.tar.gz PackageFileSize: 4.095 MiB