Package: GenomicOZone Version: 1.20.0 Command: chmod a+r GenomicOZone -R && F:\biocbuild\bbs-3.20-bioc\R\bin\R.exe CMD build --keep-empty-dirs --no-resave-data GenomicOZone StartedAt: 2025-02-03 19:24:34 -0500 (Mon, 03 Feb 2025) EndedAt: 2025-02-03 19:27:14 -0500 (Mon, 03 Feb 2025) EllapsedTime: 159.9 seconds RetCode: 0 Status: OK PackageFile: GenomicOZone_1.20.0.tar.gz PackageFileSize: 1.271 MiB