Package: GenomicOZone Version: 1.20.0 Command: /Library/Frameworks/R.framework/Resources/bin/R CMD INSTALL GenomicOZone StartedAt: 2025-01-27 17:03:06 -0500 (Mon, 27 Jan 2025) EndedAt: 2025-01-27 17:04:26 -0500 (Mon, 27 Jan 2025) EllapsedTime: 80.1 seconds RetCode: 0 Status: OK