Package: GenomicOZone Version: 1.20.0 Command: /Library/Frameworks/R.framework/Resources/bin/R CMD build --keep-empty-dirs --no-resave-data GenomicOZone StartedAt: 2025-04-01 00:03:34 -0400 (Tue, 01 Apr 2025) EndedAt: 2025-04-01 00:06:06 -0400 (Tue, 01 Apr 2025) EllapsedTime: 151.9 seconds RetCode: 0 Status: OK PackageFile: GenomicOZone_1.20.0.tar.gz PackageFileSize: 1.276 MiB