Package: GenomicOZone Version: 1.20.0 Command: rm -rf GenomicOZone.buildbin-libdir && mkdir GenomicOZone.buildbin-libdir && /Users/biocbuild/BBS/utils/build-universal.sh GenomicOZone_1.20.0.tar.gz /Library/Frameworks/R.framework/Resources/bin/R GenomicOZone.buildbin-libdir StartedAt: 2025-01-29 14:48:20 -0500 (Wed, 29 Jan 2025) EndedAt: 2025-01-29 14:49:25 -0500 (Wed, 29 Jan 2025) EllapsedTime: 65.2 seconds RetCode: 0 Status: OK PackageFile: GenomicOZone_1.20.0.tgz PackageFileSize: 1.326 MiB