Package: GenomicFiles Version: 1.42.0 Command: /home/biocbuild/bbs-3.20-bioc/R/bin/R CMD INSTALL GenomicFiles StartedAt: 2025-03-31 15:27:12 -0400 (Mon, 31 Mar 2025) EndedAt: 2025-03-31 15:27:51 -0400 (Mon, 31 Mar 2025) EllapsedTime: 38.9 seconds RetCode: 0 Status: OK